BEGIN:VCALENDAR
VERSION:2.0
CALSCALE:GREGORIAN
PRODID:adamgibbons/ics
METHOD:PUBLISH
X-PUBLISHED-TTL:PT1H
BEGIN:VEVENT
UID:184@kulturkarte.servus.at
SUMMARY:Hacknight
DTSTAMP:20260420T020745Z
DTSTART:20260423T170000Z
URL:https://kulturkarte.servus.at/event/hacknight-13
LOCATION:/dev/lol Hackerspace - Hofgasse 19\, Linz
STATUS:CONFIRMED
CATEGORIES:/dev/lol,linz,hacking
END:VEVENT
BEGIN:VEVENT
UID:171@kulturkarte.servus.at
SUMMARY:Linzer AUG - Arduino User Group
DTSTAMP:20260420T020745Z
DTSTART:20260430T140000Z
DTEND:20260430T170000Z
URL:https://kulturkarte.servus.at/event/linzer-aug-arduino-user-group-3
LOCATION:/dev/lol Hackerspace - Hofgasse 19\, Linz
STATUS:CONFIRMED
CATEGORIES:/dev/lol,linz,hacking
END:VEVENT
BEGIN:VEVENT
UID:4@kulturkarte.servus.at
SUMMARY:AMRO26 / Art Meets Radical Openness / Becoming Unreadable
DTSTAMP:20260420T020745Z
DTSTART:20260513T080000Z
DTEND:20260516T215900Z
URL:https://kulturkarte.servus.at/event/amro-26-art-meets-radical-openness
LOCATION:afo - architekturforum oberösterreich - Herbert-Bayer-Platz\, Alts
	tadtviertel\, Innere Stadt\, Linz\, Oberösterreich\, 4020\, Österreich
STATUS:CONFIRMED
CATEGORIES:servus,linz,critical media,self-hosting,community,networks,media
	 arts,floss,openness,radical,digital,AMRO,festival
END:VEVENT
BEGIN:VEVENT
UID:5@kulturkarte.servus.at
SUMMARY:FMR26
DTSTAMP:20260420T020745Z
DTSTART:20260603T160000Z
DTEND:20260606T215900Z
URL:https://kulturkarte.servus.at/event/fmr26
LOCATION:Schlossberg Linz - Schlossberg\, Altstadtviertel\, Innere Stadt\, 
	Linz\, Oberösterreich\, 4020\, Österreich
STATUS:CONFIRMED
CATEGORIES:performance,media arts,digital,digitalization,linz,talks,discour
	se,public space,linzfmr,festival,digital art,internet art,media,installati
	ons
END:VEVENT
BEGIN:VEVENT
UID:181@kulturkarte.servus.at
SUMMARY:Raumteiler Sommerfest
DTSTAMP:20260420T020745Z
DTSTART:20260703T130000Z
URL:https://kulturkarte.servus.at/event/raumteiler-sommerfest
LOCATION:Raumteiler - Humboldtstrasse 33a
STATUS:CONFIRMED
CATEGORIES:linz,bumbummitniveau,sommerfest
END:VEVENT
END:VCALENDAR
